BEGIN:VCALENDAR
VERSION:2.0
PRODID:-//Plone.org//NONSGML plone.app.event//EN
X-WR-TIMEZONE:US/Eastern
BEGIN:VEVENT
SUMMARY:GARDENING 101
DTSTART;TZID=US/Eastern:20260428T140000
DTEND;TZID=US/Eastern:20260428T160000
DTSTAMP:20260423T035957Z
UID:3e521f9c41ee4a85b8d6c4dfcf4dbf9a@saas_stack_varnish:6080
CONTACT:989-235-6111
CREATED:20260402T200851Z
LAST-MODIFIED:20260402T200915Z
LOCATION:Crystal Community Library
URL:https://www.crystal.michlibrary.org/news-events/news-and-events/garden
 ing-101
END:VEVENT
BEGIN:VEVENT
SUMMARY:Planning for Preservation
DTSTART;TZID=US/Eastern:20260504T140000
DTEND;TZID=US/Eastern:20260504T160000
DTSTAMP:20260423T035957Z
UID:67cc9f3582f9477eb3f7de172dbd59de@saas_stack_varnish:6080
CONTACT:989-235-6111
CREATED:20260406T192422Z
DESCRIPTION:Learn what fruits and vegetables grow best in Michigan. If you
  do not have your own garden\, find out different options to find the best
  produce for preservation.
LAST-MODIFIED:20260406T192716Z
LOCATION:Crystal Community Library
URL:https://www.crystal.michlibrary.org/news-events/news-and-events/planni
 ng-for-preservation
END:VEVENT
BEGIN:VEVENT
SUMMARY:SENIOR SOCIAL BINGO
DTSTART;TZID=US/Eastern:20260717T140000
DTEND;TZID=US/Eastern:20260717T160000
DTSTAMP:20260423T035957Z
UID:b89b1df24f42411cbbca39465b500935@saas_stack_varnish:6080
CONTACT:989-235-6111
CREATED:20260219T203409Z
DESCRIPTION:Senior Social Bingo at Crystal Community Library
LAST-MODIFIED:20260219T203421Z
LOCATION:Crystal Community Library
URL:https://www.crystal.michlibrary.org/senior-social-bingo-2
END:VEVENT
BEGIN:VEVENT
SUMMARY:SENIOR SOCIAL BINGO
DTSTART;TZID=US/Eastern:20260918T140000
DTEND;TZID=US/Eastern:20260918T160000
DTSTAMP:20260423T035957Z
UID:738458cf04ce4fb0bbd0c620afae1fb0@saas_stack_varnish:6080
CONTACT:989-235-6111
CREATED:20260219T203602Z
DESCRIPTION:Senior Social Bingo at Crystal Community Library
LAST-MODIFIED:20260219T203614Z
LOCATION:Crystal Community Library
URL:https://www.crystal.michlibrary.org/senior-social-bingo-3
END:VEVENT
BEGIN:VEVENT
SUMMARY:SENIOR SOCIAL BINGO
DTSTART;TZID=US/Eastern:20261120T140000
DTEND;TZID=US/Eastern:20261120T160000
DTSTAMP:20260423T035957Z
UID:3799518c99e84ed09a3a287bf7aaf28f@saas_stack_varnish:6080
CONTACT:989-235-6111
CREATED:20260219T203750Z
DESCRIPTION:Senior Social Bingo at Crystal Community Library
LAST-MODIFIED:20260219T203801Z
LOCATION:Crystal Community Library
URL:https://www.crystal.michlibrary.org/senior-social-bingo-4
END:VEVENT
BEGIN:VTIMEZONE
TZID:US/Eastern
X-LIC-LOCATION:US/Eastern
BEGIN:DAYLIGHT
DTSTART:20260308T030000
TZNAME:EDT
TZOFFSETFROM:-0500
TZOFFSETTO:-0400
END:DAYLIGHT
BEGIN:STANDARD
DTSTART:20261101T010000
TZNAME:EST
TZOFFSETFROM:-0400
TZOFFSETTO:-0500
END:STANDARD
END:VTIMEZONE
END:VCALENDAR
