BEGIN:VCALENDAR
VERSION:2.0
PRODID:-//Plone.org//NONSGML plone.app.event//EN
X-WR-TIMEZONE:US/Eastern
BEGIN:VEVENT
SUMMARY:Crystal Community Library Book Club
DTSTART;TZID=US/Eastern:20260421T130000
DTEND;TZID=US/Eastern:20260421T140000
DTSTAMP:20260423T065912Z
UID:ea1c50120bf24a4c9543bb1291ab4318@saas_stack_varnish:6080
CONTACT:989-235-6111
CREATED:20241031T173350Z
DESCRIPTION:"The Light Between Oceans" by M.L.Stedman
LAST-MODIFIED:20260319T150639Z
LOCATION:Crystal Community Library
URL:https://www.crystal.michlibrary.org/news-events/news-and-events/crysta
 l-community-library-book-club-2
END:VEVENT
BEGIN:VEVENT
SUMMARY:Storytime
DTSTART;TZID=US/Eastern:20260413T113000
DTEND;TZID=US/Eastern:20260413T123000
DTSTAMP:20260423T065912Z
UID:b9651a2f620e4da99c46e3c5aa696c21@saas_stack_varnish:6080
CONTACT:989-235-6111
CREATED:20260205T223346Z
DESCRIPTION:Storytime will begin at Crystal Community Library on April 13t
 h\, 2026 at 11:30am for ages 3-5.
LAST-MODIFIED:20260205T223410Z
LOCATION:Crystal Community Library
URL:https://www.crystal.michlibrary.org/news-events/news-and-events/storyt
 ime-1
END:VEVENT
BEGIN:VEVENT
SUMMARY:Spring break fun for kids at Crystal Community Library
DTSTART;TZID=US/Eastern:20260410T143000
DTEND;TZID=US/Eastern:20260410T153000
DTSTAMP:20260423T065912Z
UID:2a0dd45305e447a28c5b2907b8dcf5ec@saas_stack_varnish:6080
CONTACT:989-235-6111
CREATED:20260223T221644Z
DESCRIPTION:Paracord survival bracelet craft today.
LAST-MODIFIED:20260307T155421Z
LOCATION:Crystal Community Library
URL:https://www.crystal.michlibrary.org/news-events/spring-break-fun-for-k
 ids-at-crystal-community-library-2
END:VEVENT
BEGIN:VEVENT
SUMMARY:Spring break fun for kids at Crystal Community Library
DTSTART;TZID=US/Eastern:20260409T110000
DTEND;TZID=US/Eastern:20260409T120000
DTSTAMP:20260423T065912Z
UID:d87a50f363bd4f79b44166a446307870@saas_stack_varnish:6080
CONTACT:989-235-6111
CREATED:20260223T221429Z
DESCRIPTION:Seed library is open!
LAST-MODIFIED:20260307T155318Z
LOCATION:Crystal Community Library
URL:https://www.crystal.michlibrary.org/news-events/spring-break-fun-for-k
 ids-at-crystal-community-library-1
END:VEVENT
BEGIN:VEVENT
SUMMARY:Spring break fun for kids at Crystal Community Library
DTSTART;TZID=US/Eastern:20260408T140000
DTEND;TZID=US/Eastern:20260408T180000
DTSTAMP:20260423T065912Z
UID:541d34bb0bdb404e99371a0c40394df1@saas_stack_varnish:6080
CONTACT:989-235-6111
CREATED:20260223T220821Z
DESCRIPTION:Come and enjoy a free movie  and popcorn!
LAST-MODIFIED:20260307T155252Z
LOCATION:Crystal Community Library
URL:https://www.crystal.michlibrary.org/news-events/spring-break-fun-for-k
 ids-at-crystal-community-library
END:VEVENT
BEGIN:VEVENT
SUMMARY:Spring break fun for kids at Crystal Community Library
DTSTART;TZID=US/Eastern:20260407T143000
DTEND;TZID=US/Eastern:20260407T170000
DTSTAMP:20260423T065912Z
UID:539b93e7d4d84e4ca77b9207c36a4845@saas_stack_varnish:6080
CONTACT:989-235-6111
CREATED:20260223T220136Z
DESCRIPTION:Paint a quilt square today.
LAST-MODIFIED:20260307T155225Z
LOCATION:Crystal Community Library
URL:https://www.crystal.michlibrary.org/news-events/spring-break-fun-at-cr
 ystal-community-library-1
END:VEVENT
BEGIN:VEVENT
SUMMARY:Spring break fun for kids at Crystal Community Library.
DTSTART;TZID=US/Eastern:20260406T110000
DTEND;TZID=US/Eastern:20260410T170000
DTSTAMP:20260423T065912Z
UID:abd4065d9ec44694b2c68d324d1d100b@saas_stack_varnish:6080
CONTACT:989-235-6111
CREATED:20260223T214406Z
DESCRIPTION:Pick up a free craft to take home!
LAST-MODIFIED:20260307T155905Z
LOCATION:Crystal Community Library
URL:https://www.crystal.michlibrary.org/news-events/spring-break-fun-at-cr
 ystal-community-library
END:VEVENT
BEGIN:VEVENT
SUMMARY:Crystal Community Library Book Club
DTSTART;TZID=US/Eastern:20260317T130000
DTEND;TZID=US/Eastern:20260317T140000
DTSTAMP:20260423T065912Z
UID:fe1054811dea465296e9fb63fb23b37c@saas_stack_varnish:6080
CONTACT:989-235-6111
CREATED:20260219T200320Z
DESCRIPTION:Crystal Community Library is reading The Lies They Told by Ell
 en Marie Wiseman on March 17\, 2026 at 1:00pm.
LAST-MODIFIED:20260219T200334Z
LOCATION:Crystal Community Library
URL:https://www.crystal.michlibrary.org/news-events/news-and-events/crysta
 l-community-library-book-club
END:VEVENT
BEGIN:VEVENT
SUMMARY:Revolutionary War Program
DTSTART;TZID=US/Eastern:20260313T183000
DTEND;TZID=US/Eastern:20260313T193000
DTSTAMP:20260423T065912Z
UID:b498727b0a20437eabb77dabbcc05d05@saas_stack_varnish:6080
CONTACT:989-235-6111
CREATED:20260114T171847Z
DESCRIPTION:Join Jerry Berg\, historian of the Military History Academy as
  he leads us back 250 years to the battlefields of the Revolutionary War.
LAST-MODIFIED:20260121T155858Z
LOCATION:Crystal Community Library
URL:https://www.crystal.michlibrary.org/news-events/news-and-events/revolu
 tionary-war-program
END:VEVENT
BEGIN:VEVENT
SUMMARY:Storytime
DTSTART;TZID=US/Eastern:20260309T113000
DTEND;TZID=US/Eastern:20260309T123000
DTSTAMP:20260423T065912Z
UID:1a2fc75abee447f2bed1ae8c5a7102e5@saas_stack_varnish:6080
CONTACT:989-235-6111
CREATED:20260205T222956Z
DESCRIPTION:Storytime will begin at Crystal Community Library on March 9th
 \, 2026 at 11:30am for ages 3-5.
LAST-MODIFIED:20260205T223041Z
LOCATION:Crystal Community Library
URL:https://www.crystal.michlibrary.org/news-events/news-and-events/storyt
 ime
END:VEVENT
BEGIN:VEVENT
SUMMARY:Gentle Basic Chair Yoga with music
DTSTART;TZID=US/Eastern:20260306T150000
DTEND;TZID=US/Eastern:20260306T154500
DTSTAMP:20260423T065912Z
UID:63ec87a76517410b9d7732dbd642742a@saas_stack_varnish:6080
CONTACT:989-235-6111
CREATED:20260123T203511Z
DESCRIPTION:Gentle Basic Chair Yoga with music. Call 989-235-6111 to reser
 ve your spot. Sign up is required and space is limited.
LAST-MODIFIED:20260123T203525Z
LOCATION:Crystal Community Library
URL:https://www.crystal.michlibrary.org/news-events/news-and-events/gentle
 -basic-chair-yoga-with-music-1
END:VEVENT
BEGIN:VEVENT
SUMMARY:Free movie and popcorn
DTSTART;TZID=US/Eastern:20260211T150000
DTEND;TZID=US/Eastern:20260211T163000
DTSTAMP:20260423T065912Z
UID:4175660ffae4481d8e650fee30dcc99e@saas_stack_varnish:6080
CONTACT:989-235-6111
CREATED:20250707T192649Z
DESCRIPTION:Starring Sophia Lillis and Mackenzie Graham. This movie is rat
 ed PG and is 89 minutes long.
LAST-MODIFIED:20260121T171006Z
LOCATION:Crystal Community Library
URL:https://www.crystal.michlibrary.org/news-events/news-and-events/free-m
 ovie-matinee
END:VEVENT
BEGIN:VEVENT
SUMMARY:SENIOR SOCIAL BINGO
DTSTART;TZID=US/Eastern:20250919T140000
DTEND;TZID=US/Eastern:20250919T150000
DTSTAMP:20260423T065912Z
UID:11d7b97aa4e74bd3861ec8d59acfbb9e@saas_stack_varnish:6080
RRULE:FREQ=MONTHLY;UNTIL=20251121T000000;BYDAY=+3FR
EXDATE;TZID=US/Eastern:20251017T000000
CONTACT:989-235-6111
CREATED:20240905T184248Z
DESCRIPTION:senior bingo games
LAST-MODIFIED:20250905T180812Z
LOCATION:Crystal Community Library
URL:https://www.crystal.michlibrary.org/news-events/news-and-events/senior
 -social-bingo-2
END:VEVENT
BEGIN:VEVENT
SUMMARY:Cards & Coffee
DTSTART;TZID=US/Eastern:20250820T110000
DTEND;TZID=US/Eastern:20250820T130000
DTSTAMP:20260423T065912Z
UID:1b663375880947cebda7103f7a8107b4@saas_stack_varnish:6080
RRULE:FREQ=MONTHLY;COUNT=1;BYMONTHDAY=17
CONTACT:989-235-6111
CREATED:20250418T162014Z
DESCRIPTION:Join us at the Crystal Community Library for coffee\, card or 
 board games and conversation. Browse the library and discover what it has 
 to offer you!
LAST-MODIFIED:20250724T194531Z
LOCATION:Crystal Community Library
URL:https://www.crystal.michlibrary.org/news-events/news-and-events/cards-
 coffee-1
END:VEVENT
BEGIN:VEVENT
SUMMARY:Free movie matinee
DTSTART;TZID=US/Eastern:20250729T150000
DTEND;TZID=US/Eastern:20250729T160000
DTSTAMP:20260423T065912Z
UID:2100f37af885479d84bc74bf9ff08fa3@saas_stack_varnish:6080
CONTACT:989-235-6111
CREATED:20250707T192937Z
DESCRIPTION:Free movie starring Michael J. Fox
LAST-MODIFIED:20250707T192953Z
LOCATION:Crystal Community Library
URL:https://www.crystal.michlibrary.org/news-events/free-movie-matinee
END:VEVENT
BEGIN:VEVENT
SUMMARY:Closed.
DTSTART;VALUE=DATE:20250704
DTEND;VALUE=DATE:20250705
DTSTAMP:20260423T065912Z
UID:d137a64f30094130b85333f21402f066@saas_stack_varnish:6080
RRULE:FREQ=DAILY;UNTIL=20250705T000000
CONTACT:989-235-6111
CREATED:20250619T210711Z
DESCRIPTION:Closed for the Independence Day Holiday.
LAST-MODIFIED:20250625T213158Z
LOCATION:Crystal Community Library
URL:https://www.crystal.michlibrary.org/news-events/closed-8
END:VEVENT
BEGIN:VEVENT
SUMMARY:Coffee\, Games & Conversation
DTSTART;TZID=US/Eastern:20241120T150000
DTEND;TZID=US/Eastern:20241120T170000
DTSTAMP:20260423T065912Z
UID:318f5b90e9d7465ebb45add66c382a4e@saas_stack_varnish:6080
CONTACT:989-235-6111
CREATED:20240905T185934Z
DESCRIPTION:coffee and games
LAST-MODIFIED:20240905T190016Z
LOCATION:Crystal Community Library
URL:https://www.crystal.michlibrary.org/news-events/coffee-games-conversat
 ion-1
END:VEVENT
BEGIN:VEVENT
SUMMARY:Coffee\, Games & Conversation
DTSTART;TZID=US/Eastern:20241016T140000
DTEND;TZID=US/Eastern:20241016T150000
DTSTAMP:20260423T065912Z
UID:e9d092a0221d4a77b7d54d5bb1e6b382@saas_stack_varnish:6080
CONTACT:989-235-6111
CREATED:20240905T185630Z
DESCRIPTION:coffee and games
LAST-MODIFIED:20240905T185640Z
LOCATION:Crystal Community Library
URL:https://www.crystal.michlibrary.org/news-events/coffee-games-conversat
 ion
END:VEVENT
BEGIN:VEVENT
SUMMARY:Closed.
DTSTART;TZID=US/Eastern:20240902T100000
DTEND;TZID=US/Eastern:20240902T180000
DTSTAMP:20260423T065912Z
UID:592a578a150549bb93ddc9db15e46827@saas_stack_varnish:6080
CONTACT:989-235-6111
CREATED:20240826T163218Z
DESCRIPTION:The Crystal Community Library will be closed September 2\, 202
 4 for the Labor Day Holiday.
LAST-MODIFIED:20240826T163225Z
LOCATION:Crystal Community Library
URL:https://www.crystal.michlibrary.org/news-events/closed-7
END:VEVENT
BEGIN:VEVENT
SUMMARY:Introduction To Beekeeping
DTSTART;TZID=US/Eastern:20240429T140000
DTEND;TZID=US/Eastern:20240429T150000
DTSTAMP:20260423T065912Z
UID:55c8d14bc5fb4c98a4a8f321f22ce7e9@saas_stack_varnish:6080
CONTACT:989-235-6111
CREATED:20240305T184650Z
DESCRIPTION:Introduction to Beekeeping taught by Elizabeth Pitzer. Free ev
 ent.
LAST-MODIFIED:20240305T184901Z
LOCATION:Crystal Community Library
URL:https://www.crystal.michlibrary.org/news-events/introduction-to-beekee
 ping
END:VEVENT
BEGIN:VEVENT
SUMMARY:Closed.
DTSTART;VALUE=DATE:20240102
DTEND;VALUE=DATE:20240103
DTSTAMP:20260423T065912Z
UID:ecb90284679c49a482dfbbdeed97d38b@saas_stack_varnish:6080
CONTACT:1-989-235-6111
CREATED:20231130T221109Z
DESCRIPTION:Closed for the holidays.
LAST-MODIFIED:20231214T171436Z
LOCATION:Crystal Community Library
URL:https://www.crystal.michlibrary.org/news-events/closed-6
END:VEVENT
BEGIN:VEVENT
SUMMARY:Closed.
DTSTART;VALUE=DATE:20240101
DTEND;VALUE=DATE:20240102
DTSTAMP:20260423T065912Z
UID:015a2df17c674dcaa88306d6e1c96e43@saas_stack_varnish:6080
CONTACT:1-989-235-6111
CREATED:20231130T220816Z
DESCRIPTION:Closed for the holidays.
LAST-MODIFIED:20231214T171418Z
LOCATION:Crystal Community Library
URL:https://www.crystal.michlibrary.org/news-events/closed-5
END:VEVENT
BEGIN:VEVENT
SUMMARY:Closed.
DTSTART;VALUE=DATE:20231230
DTEND;VALUE=DATE:20231231
DTSTAMP:20260423T065912Z
UID:1f716774bd704865939ee0bcd1c3686a@saas_stack_varnish:6080
CONTACT:1-989-235-6111
CREATED:20231130T220602Z
DESCRIPTION:Closed for the holidays.
LAST-MODIFIED:20231214T171355Z
LOCATION:Crystal Community Library
URL:https://www.crystal.michlibrary.org/news-events/closed-4
END:VEVENT
BEGIN:VEVENT
SUMMARY:Summer Reading Club event
DTSTART;TZID=US/Eastern:20230717T140000
DTEND;TZID=US/Eastern:20230717T160000
DTSTAMP:20260423T065912Z
UID:1820500916584a808cc9ad5422c79311@saas_stack_varnish:6080
CONTACT:989-235-6111
CREATED:20230607T195735Z
DESCRIPTION:Let's go roller skating!
LAST-MODIFIED:20230607T195805Z
LOCATION:Rainbow Gardens Roller Rink in Crystal.
URL:https://www.crystal.michlibrary.org/news-events/summer-reading-club-ev
 ent-4
END:VEVENT
BEGIN:VEVENT
SUMMARY:Summer Reading Club event
DTSTART;TZID=US/Eastern:20230710T130000
DTEND;TZID=US/Eastern:20230710T140000
DTSTAMP:20260423T065912Z
UID:0e98a7d495584131b346a9a16e2678d5@saas_stack_varnish:6080
CONTACT:989-235-6111
CREATED:20230607T175021Z
DESCRIPTION:Deb Woodward is an author and storyteller.
LAST-MODIFIED:20230607T200406Z
LOCATION:Crystal Community Library
URL:https://www.crystal.michlibrary.org/news-events/summer-reading-club-ev
 ent-3
END:VEVENT
BEGIN:VEVENT
SUMMARY:Summer Reading Club event
DTSTART;TZID=US/Eastern:20230626T130000
DTEND;TZID=US/Eastern:20230626T140000
DTSTAMP:20260423T065912Z
UID:59d077620f8244978772ae7617f9688e@saas_stack_varnish:6080
CONTACT:989-235-6111
CREATED:20230607T174458Z
DESCRIPTION:Storytelling by Todd and Penny Avery
LAST-MODIFIED:20230607T174521Z
LOCATION:Crystal Community Library
URL:https://www.crystal.michlibrary.org/news-events/summer-reading-club-ev
 ent-2
END:VEVENT
BEGIN:VEVENT
SUMMARY:Closed.
DTSTART;TZID=US/Eastern:20230529T100000
DTEND;TZID=US/Eastern:20230529T180000
DTSTAMP:20260423T065912Z
UID:a387cb16795a468aab7097b2be24fbbc@saas_stack_varnish:6080
CONTACT:989-235-6111
CREATED:20230504T144354Z
DESCRIPTION:Closed for Memorial Day holiday.
LAST-MODIFIED:20230504T144405Z
LOCATION:Crystal Community Library
URL:https://www.crystal.michlibrary.org/news-events/closed-1
END:VEVENT
BEGIN:VEVENT
SUMMARY:Closed for Labor Day.
DTSTART;VALUE=DATE:20220903
DTEND;VALUE=DATE:20220906
DTSTAMP:20260423T065912Z
UID:0a782eca7d074b4e99f406ad7a2c181a@saas_stack_varnish:6080
CONTACT:1-989-235-6111
CREATED:20220728T161447Z
DESCRIPTION:Closed September 3rd & 5th for the Labor Day holidayl
LAST-MODIFIED:20220728T161618Z
LOCATION:Crystal Community Library
URL:https://www.crystal.michlibrary.org/news-events/lib-cal/closed-for-lab
 or-day
END:VEVENT
BEGIN:VEVENT
SUMMARY:Summer Reading Club event
DTSTART;TZID=US/Eastern:20220725T130000
DTEND;TZID=US/Eastern:20220725T140000
DTSTAMP:20260423T065912Z
UID:f5728eb7d93244228e2a23312a8c02c5@saas_stack_varnish:6080
CONTACT:989-235-6111
CREATED:20220607T170123Z
DESCRIPTION:"Introduction To Fishing"
LAST-MODIFIED:20220607T170155Z
LOCATION:Crystal Community Library
URL:https://www.crystal.michlibrary.org/news-events/summer-reading-club-ev
 ent-1
END:VEVENT
BEGIN:VEVENT
SUMMARY:Summer Reading Club event
DTSTART;TZID=US/Eastern:20220718T130000
DTEND;TZID=US/Eastern:20220718T170000
DTSTAMP:20260423T065912Z
UID:3240e3b3ad204f11a499a6b51ba4042a@saas_stack_varnish:6080
CONTACT:989-235-6111
CREATED:20220607T165415Z
DESCRIPTION:Building with Legos
LAST-MODIFIED:20220607T165550Z
LOCATION:Crystal Community Library
URL:https://www.crystal.michlibrary.org/news-events/summer-reading-club-ev
 ent
END:VEVENT
BEGIN:VEVENT
SUMMARY:Summer Reading Club sign-up
DTSTART;TZID=US/Eastern:20220606T110000
DTEND;TZID=US/Eastern:20220606T180000
DTSTAMP:20260423T065912Z
UID:ae914ca58c7c44caa65e2ac5232ac1b6@saas_stack_varnish:6080
CONTACT:989-235-6111
CREATED:20220602T190224Z
DESCRIPTION:Summer Reading Club begins soon!
LAST-MODIFIED:20220602T190240Z
LOCATION:Crystal Community Library
URL:https://www.crystal.michlibrary.org/news-events/lib-cal/summer-reading
 -club-sign-up
END:VEVENT
BEGIN:VEVENT
SUMMARY:Closed.
DTSTART;TZID=US/Eastern:20220530T110000
DTEND;TZID=US/Eastern:20220530T180000
DTSTAMP:20260423T065912Z
UID:5027cc5135004a9cbda212ac89da351a@saas_stack_varnish:6080
CONTACT:989-235-6111
CREATED:20220523T135646Z
DESCRIPTION:Closed for the Memorial Day holiday.
LAST-MODIFIED:20220523T135702Z
LOCATION:Crystal Community Library
URL:https://www.crystal.michlibrary.org/news-events/lib-cal/closed-10
END:VEVENT
BEGIN:VEVENT
SUMMARY:Closed.
DTSTART;TZID=US/Eastern:20220528T110000
DTEND;TZID=US/Eastern:20220528T180000
DTSTAMP:20260423T065912Z
UID:bb952f91b3724264bced9ec69e4435f8@saas_stack_varnish:6080
CONTACT:989-235-6111
CREATED:20220523T134307Z
DESCRIPTION:Closed for the Memorial Day holiday.
LAST-MODIFIED:20220523T135443Z
LOCATION:Crystal Community Library
URL:https://www.crystal.michlibrary.org/news-events/lib-cal/closed-9
END:VEVENT
BEGIN:VEVENT
SUMMARY:Storytime begins Feb. 7\, 11:30 a.m.
DTSTART;TZID=US/Eastern:20220207T113000
DTEND;TZID=US/Eastern:20220207T123000
DTSTAMP:20260423T065912Z
UID:8d0377a8823d4616949977ee4a34b94a@saas_stack_varnish:6080
CONTACT:989-235-6111
CREATED:20220112T221620Z
LAST-MODIFIED:20220112T221738Z
LOCATION:Crystal Community Library
URL:https://www.crystal.michlibrary.org/news-events/lib-cal/storytime-begi
 ns-feb-7-11-30-a-m
END:VEVENT
BEGIN:VEVENT
SUMMARY:Closed for New Years.
DTSTART;VALUE=DATE:20211231
DTEND;VALUE=DATE:20220104
DTSTAMP:20260423T065912Z
UID:c5f4285c0b4d491eab8f143667b8a599@saas_stack_varnish:6080
CONTACT:989-235-6111
CREATED:20211208T220235Z
DESCRIPTION:The Crystal Comminity Library will be closed Dec. 31\, Jan. 1 
 & 3 for the New Year's Holiday.
LAST-MODIFIED:20211216T162817Z
LOCATION:Crystal Community Library
URL:https://www.crystal.michlibrary.org/news-events/lib-cal/closed-8
END:VEVENT
BEGIN:VEVENT
SUMMARY:Closed for Christmas.
DTSTART;VALUE=DATE:20211224
DTEND;VALUE=DATE:20211228
DTSTAMP:20260423T065912Z
UID:241805456563457792a2043db2a91e56@saas_stack_varnish:6080
CONTACT:989-235-6111
CREATED:20211203T190144Z
DESCRIPTION:Crystal Community Library will be closed Dec. 24\, 25 and 27.
LAST-MODIFIED:20211203T190259Z
LOCATION:Crystal Community Library
URL:https://www.crystal.michlibrary.org/news-events/lib-cal/closed-7
END:VEVENT
BEGIN:VEVENT
SUMMARY:Crystal Community Library Book Club
DTSTART;TZID=US/Eastern:20211213T093000
DTEND;TZID=US/Eastern:20211213T103000
DTSTAMP:20260423T065912Z
UID:2bb5158770a64b42b16363ab2140840e@saas_stack_varnish:6080
CONTACT:1-989-235-6111
CREATED:20211110T211231Z
DESCRIPTION:We are currently reading "The Firekeepers Daughter" by Angelin
 e Boulley
LAST-MODIFIED:20211116T182302Z
LOCATION:Crystal Community Library
URL:https://www.crystal.michlibrary.org/news-events/lib-cal/crystal-commun
 ity-library-book-club-1
END:VEVENT
BEGIN:VEVENT
SUMMARY:Navigating the Holidays With a Grieving Heart
DTSTART;TZID=US/Eastern:20211210T130000
DTEND;TZID=US/Eastern:20211210T143000
DTSTAMP:20260423T065912Z
UID:5bcc40e16a0249c3a6908465953f8b1c@saas_stack_varnish:6080
CONTACT:1-989-235-6111
CREATED:20211110T213351Z
DESCRIPTION:Grief workshop.
LAST-MODIFIED:20211110T213404Z
LOCATION:Crystal Community Library
URL:https://www.crystal.michlibrary.org/news-events/lib-cal/navigating-the
 -holidays-with-a-grieving-heart-1
END:VEVENT
BEGIN:VEVENT
SUMMARY:Navigating the Holidays With a Grieving Heart
DTSTART;TZID=US/Eastern:20211203T130000
DTEND;TZID=US/Eastern:20211203T143000
DTSTAMP:20260423T065912Z
UID:940cf3072e174a4b9e6d52e64228800c@saas_stack_varnish:6080
CONTACT:1-989-235-6111
CREATED:20211110T212908Z
DESCRIPTION:Grief workshop.
LAST-MODIFIED:20211110T213000Z
LOCATION:Crystal Community Library
URL:https://www.crystal.michlibrary.org/news-events/lib-cal/navigating-the
 -holidays-with-a-grieving-heart
END:VEVENT
BEGIN:VEVENT
SUMMARY:Closed.
DTSTART;VALUE=DATE:20211125
DTEND;VALUE=DATE:20211128
DTSTAMP:20260423T065912Z
UID:48d9dab980244b81a17382af51d6711d@saas_stack_varnish:6080
CONTACT:1-989-235-6111
CREATED:20211119T154514Z
DESCRIPTION:Closed for Thanksgiving.
LAST-MODIFIED:20211119T154529Z
LOCATION:Crystal Community Library
URL:https://www.crystal.michlibrary.org/news-events/lib-cal/closed-6
END:VEVENT
BEGIN:VEVENT
SUMMARY:Crystal Community Library Book Club
DTSTART;TZID=US/Eastern:20211018T183000
DTEND;TZID=US/Eastern:20211018T193000
DTSTAMP:20260423T065912Z
UID:c65882d6b1214f57911772fcbc7b6c24@saas_stack_varnish:6080
CONTACT:989-235-6111
CREATED:20210913T161205Z
DESCRIPTION:We will discuss "The Other Einstein" by Marie Benedict
LAST-MODIFIED:20210913T162119Z
LOCATION:Crystal Community Library
URL:https://www.crystal.michlibrary.org/news-events/lib-cal/crystal-commun
 ity-library-book-club
END:VEVENT
BEGIN:VEVENT
SUMMARY:Storytime begins September 20\, 11:30a.m.
DTSTART;TZID=US/Eastern:20210920T113000
DTEND;TZID=US/Eastern:20210920T123000
DTSTAMP:20260423T065912Z
UID:ada09aa5128e4ead8d38316f7a9c80ac@saas_stack_varnish:6080
CONTACT:989-235-6111
CREATED:20210907T160332Z
DESCRIPTION:Storytime for children 3-5 begins Sept. 20 at 11\;30a.m.
LAST-MODIFIED:20210907T160346Z
LOCATION:Crystal Community Library
URL:https://www.crystal.michlibrary.org/news-events/lib-cal/storytime-begi
 ns-september-20-11-30a-m
END:VEVENT
BEGIN:VEVENT
SUMMARY:Closed for Labor Day
DTSTART;VALUE=DATE:20210906
DTEND;VALUE=DATE:20210907
DTSTAMP:20260423T065912Z
UID:36d3621686344a67834a7988005bc901@saas_stack_varnish:6080
CONTACT:1-989-235-6111
CREATED:20210805T165103Z
DESCRIPTION:Closed for Labor Day.
LAST-MODIFIED:20210831T140956Z
LOCATION:Crystal Community Library
URL:https://www.crystal.michlibrary.org/news-events/lib-cal/closed-5
END:VEVENT
BEGIN:VEVENT
SUMMARY:Closed.
DTSTART;VALUE=DATE:20210807
DTEND;VALUE=DATE:20210808
DTSTAMP:20260423T065912Z
UID:d519119cd7fa4e888c697de83062361b@saas_stack_varnish:6080
RRULE:FREQ=WEEKLY;COUNT=7;BYDAY=SA
EXDATE;TZID=US/Eastern:20210911T000000,20210918T000000
CONTACT:989-235-6111
CREATED:20210720T165043Z
LAST-MODIFIED:20210902T154425Z
LOCATION:Crystal Community Library
URL:https://www.crystal.michlibrary.org/news-events/lib-cal/closed-4
END:VEVENT
BEGIN:VEVENT
SUMMARY:Closed.
DTSTART;VALUE=DATE:20210705
DTEND;VALUE=DATE:20210706
DTSTAMP:20260423T065912Z
UID:d9e252a0473a4137938fd6a677f302b7@saas_stack_varnish:6080
CONTACT:1-989-235-6111
CREATED:20210624T170357Z
DESCRIPTION:Crystal Community Library will be closed July 5\, 2021 for the
  Independence Day Holiday.
LAST-MODIFIED:20210624T170408Z
LOCATION:Crystal Community Library
URL:https://www.crystal.michlibrary.org/news-events/lib-cal/closed-3
END:VEVENT
BEGIN:VEVENT
SUMMARY:Closed.
DTSTART;VALUE=DATE:20210619
DTEND;VALUE=DATE:20210620
DTSTAMP:20260423T065912Z
UID:b9daf714ed2548ed825969fc3c7e9ac5@saas_stack_varnish:6080
RRULE:FREQ=WEEKLY;COUNT=7;BYDAY=SA
CONTACT:1-989-235-6111
CREATED:20210510T181302Z
DESCRIPTION:Crystal Community Library will be closed on Saturday until fur
 ther notice.
LAST-MODIFIED:20210510T181312Z
LOCATION:Crystal Community Library
URL:https://www.crystal.michlibrary.org/news-events/lib-cal/closed-2
END:VEVENT
BEGIN:VEVENT
SUMMARY:Closed.
DTSTART;VALUE=DATE:20210612
DTEND;VALUE=DATE:20210613
DTSTAMP:20260423T065912Z
UID:eb1a839a8e3447ce8eb208a29b63ef3c@saas_stack_varnish:6080
CONTACT:1-989-235-6111
CREATED:20210510T180853Z
DESCRIPTION:The Crystal Community Library will be closed on Saturday until
  further notice.
LAST-MODIFIED:20210510T181025Z
LOCATION:Crystal Community Library
URL:https://www.crystal.michlibrary.org/news-events/lib-cal/closed-1
END:VEVENT
BEGIN:VEVENT
SUMMARY:Closed.
DTSTART;VALUE=DATE:20210531
DTEND;VALUE=DATE:20210601
DTSTAMP:20260423T065912Z
UID:c190be12d7544a2088c9dbe23cbf835a@saas_stack_varnish:6080
CONTACT:1-989-235-6111
CREATED:20210510T171726Z
DESCRIPTION:Crystal Community Library will be closed May 31\, 2021 for the
  Memorial Day holiday.
LAST-MODIFIED:20210510T171737Z
LOCATION:Crystal Community Library
URL:https://www.crystal.michlibrary.org/news-events/lib-cal/closed
END:VEVENT
BEGIN:VEVENT
SUMMARY:Closed.
DTSTART;VALUE=DATE:20210101
DTEND;VALUE=DATE:20210102
DTSTAMP:20260423T065912Z
UID:31c07ad2757e444faa1d5beac305bda2@saas_stack_varnish:6080
RRULE:FREQ=WEEKLY;COUNT=24;BYDAY=SA
CONTACT:989-235-6111
CREATED:20201103T192025Z
DESCRIPTION:Crystal Community Library will be closed on Saturdays until fu
 rther notice.
LAST-MODIFIED:20210421T153047Z
LOCATION:Crystal Community Library
URL:https://www.crystal.michlibrary.org/news-events/closed
END:VEVENT
BEGIN:VTIMEZONE
TZID:US/Eastern
X-LIC-LOCATION:US/Eastern
BEGIN:DAYLIGHT
DTSTART:20260308T030000
TZNAME:EDT
TZOFFSETFROM:-0500
TZOFFSETTO:-0400
END:DAYLIGHT
BEGIN:STANDARD
DTSTART:20251102T010000
TZNAME:EST
TZOFFSETFROM:-0400
TZOFFSETTO:-0500
END:STANDARD
BEGIN:DAYLIGHT
DTSTART:20250309T030000
TZNAME:EDT
TZOFFSETFROM:-0500
TZOFFSETTO:-0400
END:DAYLIGHT
BEGIN:STANDARD
DTSTART:20241103T010000
TZNAME:EST
TZOFFSETFROM:-0400
TZOFFSETTO:-0500
END:STANDARD
BEGIN:DAYLIGHT
DTSTART:20240310T030000
TZNAME:EDT
TZOFFSETFROM:-0500
TZOFFSETTO:-0400
END:DAYLIGHT
BEGIN:DAYLIGHT
DTSTART:20230312T030000
TZNAME:EDT
TZOFFSETFROM:-0500
TZOFFSETTO:-0400
END:DAYLIGHT
BEGIN:DAYLIGHT
DTSTART:20220313T030000
TZNAME:EDT
TZOFFSETFROM:-0500
TZOFFSETTO:-0400
END:DAYLIGHT
BEGIN:STANDARD
DTSTART:20211107T010000
TZNAME:EST
TZOFFSETFROM:-0400
TZOFFSETTO:-0500
END:STANDARD
BEGIN:DAYLIGHT
DTSTART:20210314T030000
TZNAME:EDT
TZOFFSETFROM:-0500
TZOFFSETTO:-0400
END:DAYLIGHT
END:VTIMEZONE
END:VCALENDAR
