BEGIN:VCALENDAR
VERSION:2.0
PRODID:-//Plone.org//NONSGML plone.app.event//EN
X-WR-TIMEZONE:US/Eastern
BEGIN:VEVENT
SUMMARY:Closed.
DTSTART;TZID=US/Eastern:20240902T100000
DTEND;TZID=US/Eastern:20240902T180000
DTSTAMP:20260423T084054Z
UID:592a578a150549bb93ddc9db15e46827@saas_stack_varnish:6080
CONTACT:989-235-6111
CREATED:20240826T163218Z
DESCRIPTION:The Crystal Community Library will be closed September 2\, 202
 4 for the Labor Day Holiday.
LAST-MODIFIED:20240826T163225Z
LOCATION:Crystal Community Library
URL:https://www.crystal.michlibrary.org/news-events/closed-7
END:VEVENT
BEGIN:VTIMEZONE
TZID:US/Eastern
X-LIC-LOCATION:US/Eastern
BEGIN:DAYLIGHT
DTSTART:20240310T030000
TZNAME:EDT
TZOFFSETFROM:-0500
TZOFFSETTO:-0400
END:DAYLIGHT
END:VTIMEZONE
END:VCALENDAR
