BEGIN:VCALENDAR
VERSION:2.0
PRODID:-//Plone.org//NONSGML plone.app.event//EN
X-WR-TIMEZONE:US/Eastern
BEGIN:VEVENT
SUMMARY:Closed.
DTSTART;VALUE=DATE:20250704
DTEND;VALUE=DATE:20250705
DTSTAMP:20260423T082122Z
UID:d137a64f30094130b85333f21402f066@saas_stack_varnish:6080
RRULE:FREQ=DAILY;UNTIL=20250705T000000
CONTACT:989-235-6111
CREATED:20250619T210711Z
DESCRIPTION:Closed for the Independence Day Holiday.
LAST-MODIFIED:20250625T213158Z
LOCATION:Crystal Community Library
URL:https://www.crystal.michlibrary.org/news-events/closed-8
END:VEVENT
END:VCALENDAR
