BEGIN:VCALENDAR
VERSION:2.0
PRODID:-//Plone.org//NONSGML plone.app.event//EN
X-WR-TIMEZONE:US/Eastern
BEGIN:VEVENT
SUMMARY:Closed.
DTSTART;VALUE=DATE:20210410
DTEND;VALUE=DATE:20210411
DTSTAMP:20260423T094355Z
UID:31c07ad2757e444faa1d5beac305bda2@saas_stack_varnish:6080
CONTACT:989-235-6111
CREATED:20201103T192025Z
DESCRIPTION:Crystal Community Library will be closed on Saturdays until fu
 rther notice.
LAST-MODIFIED:20210421T153047Z
LOCATION:Crystal Community Library
URL:https://www.crystal.michlibrary.org/news-events/closed/2021-04-10
END:VEVENT
END:VCALENDAR
