BEGIN:VCALENDAR
VERSION:2.0
PRODID:-//Plone.org//NONSGML plone.app.event//EN
X-WR-TIMEZONE:US/Eastern
BEGIN:VEVENT
SUMMARY:Coffee\, Games & Conversation
DTSTART;TZID=US/Eastern:20241120T150000
DTEND;TZID=US/Eastern:20241120T170000
DTSTAMP:20260423T082618Z
UID:318f5b90e9d7465ebb45add66c382a4e@saas_stack_varnish:6080
CONTACT:989-235-6111
CREATED:20240905T185934Z
DESCRIPTION:coffee and games
LAST-MODIFIED:20240905T190016Z
LOCATION:Crystal Community Library
URL:https://www.crystal.michlibrary.org/news-events/coffee-games-conversat
 ion-1
END:VEVENT
BEGIN:VTIMEZONE
TZID:US/Eastern
X-LIC-LOCATION:US/Eastern
BEGIN:STANDARD
DTSTART:20241103T010000
TZNAME:EST
TZOFFSETFROM:-0400
TZOFFSETTO:-0500
END:STANDARD
END:VTIMEZONE
END:VCALENDAR
