BEGIN:VCALENDAR
VERSION:2.0
PRODID:-//Plone.org//NONSGML plone.app.event//EN
X-WR-TIMEZONE:US/Eastern
BEGIN:VEVENT
SUMMARY:Free movie matinee
DTSTART;TZID=US/Eastern:20250729T150000
DTEND;TZID=US/Eastern:20250729T160000
DTSTAMP:20260423T083615Z
UID:2100f37af885479d84bc74bf9ff08fa3@saas_stack_varnish:6080
CONTACT:989-235-6111
CREATED:20250707T192937Z
DESCRIPTION:Free movie starring Michael J. Fox
LAST-MODIFIED:20250707T192953Z
LOCATION:Crystal Community Library
URL:https://www.crystal.michlibrary.org/news-events/free-movie-matinee
END:VEVENT
BEGIN:VTIMEZONE
TZID:US/Eastern
X-LIC-LOCATION:US/Eastern
BEGIN:DAYLIGHT
DTSTART:20250309T030000
TZNAME:EDT
TZOFFSETFROM:-0500
TZOFFSETTO:-0400
END:DAYLIGHT
END:VTIMEZONE
END:VCALENDAR
