BEGIN:VCALENDAR
VERSION:2.0
PRODID:-//Plone.org//NONSGML plone.app.event//EN
X-WR-TIMEZONE:US/Eastern
BEGIN:VEVENT
SUMMARY:Closed.
DTSTART;TZID=US/Eastern:20220530T110000
DTEND;TZID=US/Eastern:20220530T180000
DTSTAMP:20260423T084324Z
UID:5027cc5135004a9cbda212ac89da351a@saas_stack_varnish:6080
CONTACT:989-235-6111
CREATED:20220523T135646Z
DESCRIPTION:Closed for the Memorial Day holiday.
LAST-MODIFIED:20220523T135702Z
LOCATION:Crystal Community Library
URL:https://www.crystal.michlibrary.org/news-events/lib-cal/closed-10
END:VEVENT
BEGIN:VTIMEZONE
TZID:US/Eastern
X-LIC-LOCATION:US/Eastern
BEGIN:DAYLIGHT
DTSTART:20220313T030000
TZNAME:EDT
TZOFFSETFROM:-0500
TZOFFSETTO:-0400
END:DAYLIGHT
END:VTIMEZONE
END:VCALENDAR
