BEGIN:VCALENDAR
VERSION:2.0
PRODID:-//Plone.org//NONSGML plone.app.event//EN
X-WR-TIMEZONE:US/Eastern
BEGIN:VEVENT
SUMMARY:Closed.
DTSTART;VALUE=DATE:20210821
DTEND;VALUE=DATE:20210822
DTSTAMP:20260423T083550Z
UID:d519119cd7fa4e888c697de83062361b@saas_stack_varnish:6080
CONTACT:989-235-6111
CREATED:20210720T165043Z
LAST-MODIFIED:20210902T154425Z
LOCATION:Crystal Community Library
URL:https://www.crystal.michlibrary.org/news-events/lib-cal/closed-4/2021-
 08-21
END:VEVENT
END:VCALENDAR
