BEGIN:VCALENDAR
VERSION:2.0
PRODID:-//Plone.org//NONSGML plone.app.event//EN
X-WR-TIMEZONE:US/Eastern
BEGIN:VEVENT
SUMMARY:Closed for Christmas.
DTSTART;VALUE=DATE:20211224
DTEND;VALUE=DATE:20211228
DTSTAMP:20260423T084254Z
UID:241805456563457792a2043db2a91e56@saas_stack_varnish:6080
CONTACT:989-235-6111
CREATED:20211203T190144Z
DESCRIPTION:Crystal Community Library will be closed Dec. 24\, 25 and 27.
LAST-MODIFIED:20211203T190259Z
LOCATION:Crystal Community Library
URL:https://www.crystal.michlibrary.org/news-events/lib-cal/closed-7
END:VEVENT
END:VCALENDAR
