BEGIN:VCALENDAR
VERSION:2.0
PRODID:-//Plone.org//NONSGML plone.app.event//EN
X-WR-TIMEZONE:US/Eastern
BEGIN:VEVENT
SUMMARY:Navigating the Holidays With a Grieving Heart
DTSTART;TZID=US/Eastern:20211203T130000
DTEND;TZID=US/Eastern:20211203T143000
DTSTAMP:20260423T083804Z
UID:940cf3072e174a4b9e6d52e64228800c@saas_stack_varnish:6080
CONTACT:1-989-235-6111
CREATED:20211110T212908Z
DESCRIPTION:Grief workshop.
LAST-MODIFIED:20211110T213000Z
LOCATION:Crystal Community Library
URL:https://www.crystal.michlibrary.org/news-events/lib-cal/navigating-the
 -holidays-with-a-grieving-heart
END:VEVENT
BEGIN:VTIMEZONE
TZID:US/Eastern
X-LIC-LOCATION:US/Eastern
BEGIN:STANDARD
DTSTART:20211107T010000
TZNAME:EST
TZOFFSETFROM:-0400
TZOFFSETTO:-0500
END:STANDARD
END:VTIMEZONE
END:VCALENDAR
