BEGIN:VCALENDAR
VERSION:2.0
PRODID:-//Plone.org//NONSGML plone.app.event//EN
X-WR-TIMEZONE:US/Eastern
BEGIN:VEVENT
SUMMARY:Summer Reading Club sign-up
DTSTART;TZID=US/Eastern:20220606T110000
DTEND;TZID=US/Eastern:20220606T180000
DTSTAMP:20260423T085045Z
UID:ae914ca58c7c44caa65e2ac5232ac1b6@saas_stack_varnish:6080
CONTACT:989-235-6111
CREATED:20220602T190224Z
DESCRIPTION:Summer Reading Club begins soon!
LAST-MODIFIED:20220602T190240Z
LOCATION:Crystal Community Library
URL:https://www.crystal.michlibrary.org/news-events/lib-cal/summer-reading
 -club-sign-up
END:VEVENT
BEGIN:VTIMEZONE
TZID:US/Eastern
X-LIC-LOCATION:US/Eastern
BEGIN:DAYLIGHT
DTSTART:20220313T030000
TZNAME:EDT
TZOFFSETFROM:-0500
TZOFFSETTO:-0400
END:DAYLIGHT
END:VTIMEZONE
END:VCALENDAR
