BEGIN:VCALENDAR
VERSION:2.0
PRODID:-//Plone.org//NONSGML plone.app.event//EN
X-WR-TIMEZONE:US/Eastern
BEGIN:VEVENT
SUMMARY:Cards & Coffee
DTSTART;TZID=US/Eastern:20250820T110000
DTEND;TZID=US/Eastern:20250820T130000
DTSTAMP:20260421T112722Z
UID:1b663375880947cebda7103f7a8107b4@saas_stack_varnish:6080
RRULE:FREQ=MONTHLY;COUNT=1;BYMONTHDAY=17
CONTACT:989-235-6111
CREATED:20250418T162014Z
DESCRIPTION:Join us at the Crystal Community Library for coffee\, card or 
 board games and conversation. Browse the library and discover what it has 
 to offer you!
LAST-MODIFIED:20250724T194531Z
LOCATION:Crystal Community Library
URL:https://www.crystal.michlibrary.org/news-events/news-and-events/cards-
 coffee-1
END:VEVENT
BEGIN:VTIMEZONE
TZID:US/Eastern
X-LIC-LOCATION:US/Eastern
BEGIN:DAYLIGHT
DTSTART:20250309T030000
TZNAME:EDT
TZOFFSETFROM:-0500
TZOFFSETTO:-0400
END:DAYLIGHT
END:VTIMEZONE
END:VCALENDAR
