BEGIN:VCALENDAR
VERSION:2.0
PRODID:-//Plone.org//NONSGML plone.app.event//EN
X-WR-TIMEZONE:US/Eastern
BEGIN:VEVENT
SUMMARY:Crystal Community Library Book Club
DTSTART;TZID=US/Eastern:20260317T130000
DTEND;TZID=US/Eastern:20260317T140000
DTSTAMP:20260421T112235Z
UID:fe1054811dea465296e9fb63fb23b37c@saas_stack_varnish:6080
CONTACT:989-235-6111
CREATED:20260219T200320Z
DESCRIPTION:Crystal Community Library is reading The Lies They Told by Ell
 en Marie Wiseman on March 17\, 2026 at 1:00pm.
LAST-MODIFIED:20260219T200334Z
LOCATION:Crystal Community Library
URL:https://www.crystal.michlibrary.org/news-events/news-and-events/crysta
 l-community-library-book-club
END:VEVENT
BEGIN:VTIMEZONE
TZID:US/Eastern
X-LIC-LOCATION:US/Eastern
BEGIN:DAYLIGHT
DTSTART:20260308T030000
TZNAME:EDT
TZOFFSETFROM:-0500
TZOFFSETTO:-0400
END:DAYLIGHT
END:VTIMEZONE
END:VCALENDAR
