BEGIN:VCALENDAR
VERSION:2.0
PRODID:-//Plone.org//NONSGML plone.app.event//EN
X-WR-TIMEZONE:US/Eastern
BEGIN:VEVENT
SUMMARY:SENIOR SOCIAL BINGO
DTSTART;TZID=US/Eastern:20250919T140000
DTEND;TZID=US/Eastern:20250919T150000
DTSTAMP:20260423T090132Z
UID:11d7b97aa4e74bd3861ec8d59acfbb9e@saas_stack_varnish:6080
RRULE:FREQ=MONTHLY;UNTIL=20251121T000000;BYDAY=+3FR
EXDATE;TZID=US/Eastern:20251017T000000
CONTACT:989-235-6111
CREATED:20240905T184248Z
DESCRIPTION:senior bingo games
LAST-MODIFIED:20250905T180812Z
LOCATION:Crystal Community Library
URL:https://www.crystal.michlibrary.org/news-events/news-and-events/senior
 -social-bingo-2
END:VEVENT
BEGIN:VTIMEZONE
TZID:US/Eastern
X-LIC-LOCATION:US/Eastern
BEGIN:DAYLIGHT
DTSTART:20250309T030000
TZNAME:EDT
TZOFFSETFROM:-0500
TZOFFSETTO:-0400
END:DAYLIGHT
END:VTIMEZONE
END:VCALENDAR
